BEGIN:VCALENDAR
VERSION:2.0
PRODID:-//Sunburst Projects - ECPv6.15.16.1//NONSGML v1.0//EN
CALSCALE:GREGORIAN
METHOD:PUBLISH
X-ORIGINAL-URL:https://sunburstprojects.org
X-WR-CALDESC:Events for Sunburst Projects
REFRESH-INTERVAL;VALUE=DURATION:PT1H
X-Robots-Tag:noindex
X-PUBLISHED-TTL:PT1H
BEGIN:VTIMEZONE
TZID:UTC
BEGIN:STANDARD
TZOFFSETFROM:+0000
TZOFFSETTO:+0000
TZNAME:UTC
DTSTART:20240101T000000
END:STANDARD
END:VTIMEZONE
BEGIN:VEVENT
DTSTART;TZID=UTC:20251114T180000
DTEND;TZID=UTC:20251114T200000
DTSTAMP:20260424T034409
CREATED:20251006T175148Z
LAST-MODIFIED:20251006T175148Z
UID:3794-1763143200-1763150400@sunburstprojects.org
SUMMARY:2025 Pour It Forward
DESCRIPTION:Join Sunburst Projects for “Pour it Forward” A Blind Bourbon Tasting Experience! \nJoin us on Friday\, November 14\, 2025\, from 6–8 PM for an exclusive Blind Bourbon Tasting that promises to warm your toes\, delight your taste buds\, and stir your heart. Whether you’ve never participated in a blind bourbon tasting or consider yourself a connoisseur\, we’ll guide you every step of the way. A Certified Bourbon Steward will share the secrets of tasting\, teaching you how to truly savor each sip. \nGuests will taste six premium bourbons blind\, then together as a group\, rank the bottles to decide which warmed our taste buds\, toes\, and hearts the most. A carefully curated grazing charcuterie\, a welcome cocktail\, and live music filling the space of this beautiful private West Sacramento home will make the evening as social as it is sophisticated. \nBid on treasures in our silent auction\, connect with fellow bourbon lovers\, and experience a perfect fall night that supports the life-changing programs of Sunburst Projects. Sip\, savor\, and celebrate community—this is an evening you won’t want to miss! \n\nCLICK HERE TO BUY TICKETS\n\nThe Address of the event will be sent to you in your confirmation email. \nSunburst Projects is a 501(c)(3) non-profit serving people living with HIV/AIDS.
URL:https://sunburstprojects.org/event/2025-pour-it-forward/
CATEGORIES:Event,Featured Event
END:VEVENT
END:VCALENDAR