BEGIN:VCALENDAR
VERSION:2.0
PRODID:-//Sunburst Projects - ECPv6.15.16.1//NONSGML v1.0//EN
CALSCALE:GREGORIAN
METHOD:PUBLISH
X-WR-CALNAME:Sunburst Projects
X-ORIGINAL-URL:https://sunburstprojects.org
X-WR-CALDESC:Events for Sunburst Projects
REFRESH-INTERVAL;VALUE=DURATION:PT1H
X-Robots-Tag:noindex
X-PUBLISHED-TTL:PT1H
BEGIN:VTIMEZONE
TZID:UTC
BEGIN:STANDARD
TZOFFSETFROM:+0000
TZOFFSETTO:+0000
TZNAME:UTC
DTSTART:20240101T000000
END:STANDARD
END:VTIMEZONE
BEGIN:VEVENT
DTSTART;TZID=UTC:20251114T180000
DTEND;TZID=UTC:20251114T200000
DTSTAMP:20260423T225435
CREATED:20251006T175148Z
LAST-MODIFIED:20251006T175148Z
UID:3794-1763143200-1763150400@sunburstprojects.org
SUMMARY:2025 Pour It Forward
DESCRIPTION:Join Sunburst Projects for “Pour it Forward” A Blind Bourbon Tasting Experience! \nJoin us on Friday\, November 14\, 2025\, from 6–8 PM for an exclusive Blind Bourbon Tasting that promises to warm your toes\, delight your taste buds\, and stir your heart. Whether you’ve never participated in a blind bourbon tasting or consider yourself a connoisseur\, we’ll guide you every step of the way. A Certified Bourbon Steward will share the secrets of tasting\, teaching you how to truly savor each sip. \nGuests will taste six premium bourbons blind\, then together as a group\, rank the bottles to decide which warmed our taste buds\, toes\, and hearts the most. A carefully curated grazing charcuterie\, a welcome cocktail\, and live music filling the space of this beautiful private West Sacramento home will make the evening as social as it is sophisticated. \nBid on treasures in our silent auction\, connect with fellow bourbon lovers\, and experience a perfect fall night that supports the life-changing programs of Sunburst Projects. Sip\, savor\, and celebrate community—this is an evening you won’t want to miss! \n\nCLICK HERE TO BUY TICKETS\n\nThe Address of the event will be sent to you in your confirmation email. \nSunburst Projects is a 501(c)(3) non-profit serving people living with HIV/AIDS.
URL:https://sunburstprojects.org/event/2025-pour-it-forward/
CATEGORIES:Event,Featured Event
END:VEVENT
BEGIN:VEVENT
DTSTART;TZID=UTC:20251126T080000
DTEND;TZID=UTC:20251202T235900
DTSTAMP:20260423T225435
CREATED:20251126T193013Z
LAST-MODIFIED:20251126T193013Z
UID:3831-1764144000-1764719940@sunburstprojects.org
SUMMARY:Giving Tuesday 2025
DESCRIPTION:Join the Giving Tuesday movement today!\nJoin us in the global movement of goodness on Giving Tuesday 2025! At Sunburst Projects\, we’re dedicated to ending the HIV epidemic and dismantling the stigma surrounding it. As we strive to create an inclusive\, barrier-free environment\, every donation becomes a building block for a brighter future. Your generosity on this impactful day will enable us to continue our vital work\, reaching more lives and fostering a community where everyone feels seen\, heard\, and cared for. Together\, let’s make Giving Tuesday a beacon of hope and progress! \nAt Sunburst Projects\, we know that by helping our clients meet their essential needs\, such as stable housing\, quality medical care\, mental health services\, food\, and clothing\, and by supporting clients in their daily lives\, we empower them to adhere to their HIV medications and reduce the spread of HIV in our community. HIV disproportionately impacts those with limited resources\, including the ability to access care and life-saving HIV medications. All of our clients live below the poverty line and rely on Sunburst Projects to help them connect with vital medical and psycho-social services. \nClick Here to donate today!
URL:https://sunburstprojects.org/event/giving-tuesday-2025/
CATEGORIES:Event,Featured Event
END:VEVENT
BEGIN:VEVENT
DTSTART;TZID=UTC:20251126T080000
DTEND;TZID=UTC:20251206T235900
DTSTAMP:20260423T225435
CREATED:20251126T185855Z
LAST-MODIFIED:20251126T185855Z
UID:3810-1764144000-1765065540@sunburstprojects.org
SUMMARY:Operation Gift Card and Food Drive 2025
DESCRIPTION:Operation Gift Card 2025\nThis year\, as you sit down to share a holiday meal with your family\, help make sure a family in need is able to do the same. This November at Sunburst Projects\, we are asking for donations to help feed our families in need. Online donations will be used to purchase gift cards from major local grocery chains\, which will allow our clients an avenue to provide their families with a healthy and fresh holiday meal. Your kindness ensures that they can gather around the table\, share a warm meal\, and create lasting memories. \nThis is the impact of Operation Gift Card – turning your generosity into hope and happiness for families in need during the holiday season. Thank you for being a part of this heartwarming initiative!* \n*Donations are needed by December 6th to ensure families are being provided for before the holidays.\n \nClick Here to donate for a great cause! \n——————————————————————————————– \nOperation Food Drive 2025\n \nThis year\, Sunburst Projects is also launching Operation Food Drive to help support our clients experiencing delays with EBT/SNAP benefits. We are collecting canned and non-perishable foods to ensure no one goes without this season. Drop off donations at our office during business hours (Monday-Friday from 8am-6pm) located at 2143 Hurley Way\, Suite 240\, Sacramento CA 95825. Every item makes a difference!* \n*Food Drive donations are needed by December 18th to ensure families are being provided for before the holidays.
URL:https://sunburstprojects.org/event/operation-gift-card-and-food-drive-2025/
END:VEVENT
END:VCALENDAR