BEGIN:VCALENDAR
VERSION:2.0
PRODID:-//Sunburst Projects - ECPv6.15.16.1//NONSGML v1.0//EN
CALSCALE:GREGORIAN
METHOD:PUBLISH
X-ORIGINAL-URL:https://sunburstprojects.org
X-WR-CALDESC:Events for Sunburst Projects
REFRESH-INTERVAL;VALUE=DURATION:PT1H
X-Robots-Tag:noindex
X-PUBLISHED-TTL:PT1H
BEGIN:VTIMEZONE
TZID:UTC
BEGIN:STANDARD
TZOFFSETFROM:+0000
TZOFFSETTO:+0000
TZNAME:UTC
DTSTART:20230101T000000
END:STANDARD
END:VTIMEZONE
BEGIN:VEVENT
DTSTART;TZID=UTC:20241019T100000
DTEND;TZID=UTC:20241019T150000
DTSTAMP:20260424T210351
CREATED:20240925T234818Z
LAST-MODIFIED:20240925T234818Z
UID:3346-1729332000-1729350000@sunburstprojects.org
SUMMARY:Your Health! A Fall Health Festival 2024
DESCRIPTION:YOUR HEALTH! A Fall Health Festival 2024\nA family focused event that brings awareness to National Latinos AIDS awareness day by offering free HIV testing for tacos. Get a FREE 20-minute rapid HIV test in exchange for 2 FREE tacos!  This event will also provide free health screening\, access to community organizations and fun activities for all! \nPlease join in on the fun! \n\nMusic\nLocal Vendors\nFace Painting\nBlood Sugar Testing\nBlood Pressure Testing\nHealth Resources\nFree HIV Testing\n\nIn collaboration with Gilead\, ViiV\, La Familia\, One Community Health\, Peachtree\, WellSpace\, Sacramento LGBT Community Center\, SMUD\, EDD\, Gemini\, and (radio station)\, this event will provide an ideal opportunity for individuals\, healthcare providers\, advocates\, and communities to come together in solidarity and action.
URL:https://sunburstprojects.org/event/your-health-fall-health-festival-2024-nlaad/
LOCATION:La Familia Maple Neighborhood Center\, 3301 37th Avenue\, Sacramento\, CA\, 95824\, United States
CATEGORIES:Event,Featured Event
END:VEVENT
BEGIN:VEVENT
DTSTART;TZID=UTC:20241030T080000
DTEND;TZID=UTC:20241206T170000
DTSTAMP:20260424T210351
CREATED:20241030T190017Z
LAST-MODIFIED:20241030T190017Z
UID:3371-1730275200-1733504400@sunburstprojects.org
SUMMARY:Operation Gift Card 2024
DESCRIPTION:Operation Gift Card 2024\nThis year\, as you sit down to share a holiday meal with your family\, help make sure a family in need is able to do the same. This November at Sunburst Projects\, we are asking for donations to help feed our families in need. Online donations will be used to purchase gift cards from major local grocery chains\, which will allow our clients an avenue to provide their family with a healthy and fresh holiday meal. Your kindness ensures that they can gather around the table\, share a warm meal\, and create lasting memories. \nThis is the impact of Operation Gift Card – turning your generosity into hope and happiness for families in need during the holiday season. Thank you for being a part of this heartwarming initiative!* \n*Donations are needed by December 6th to ensure families are being provided for before the holidays. \nClick Here to donate for a great cause!
URL:https://sunburstprojects.org/event/operation-gift-card-2024/
END:VEVENT
END:VCALENDAR