BEGIN:VCALENDAR
VERSION:2.0
PRODID:-//Sunburst Projects - ECPv6.15.16.1//NONSGML v1.0//EN
CALSCALE:GREGORIAN
METHOD:PUBLISH
X-ORIGINAL-URL:https://sunburstprojects.org
X-WR-CALDESC:Events for Sunburst Projects
REFRESH-INTERVAL;VALUE=DURATION:PT1H
X-Robots-Tag:noindex
X-PUBLISHED-TTL:PT1H
BEGIN:VTIMEZONE
TZID:UTC
BEGIN:STANDARD
TZOFFSETFROM:+0000
TZOFFSETTO:+0000
TZNAME:UTC
DTSTART:20250101T000000
END:STANDARD
END:VTIMEZONE
BEGIN:VEVENT
DTSTART;TZID=UTC:20260227T180000
DTEND;TZID=UTC:20260227T203000
DTSTAMP:20260423T225841
CREATED:20260121T215414Z
LAST-MODIFIED:20260224T021803Z
UID:3900-1772215200-1772224200@sunburstprojects.org
SUMMARY:3rd Annual Lovin’ Bubbles: A Blind Champagne Tasting 2026
DESCRIPTION:Join Sunburst Projects for the 3rd Annual “Lovin’ Bubbles” Champagne Tasting on Friday\, February 27\, 2026\, from 6–8:30 PM in the Sacramento area. This fan-favorite event sells out quickly every year\, so don’t wait to reserve your seat! \nGuests will enjoy a blind tasting of six premium champagnes paired with both sweet and savory bites\, and vote for the best bubbly before the final tasting reveal. \nProceeds support Sunburst Projects’ vital work providing resources and support to individuals and families impacted by HIV/AIDS in Sacramento. \n***SOLD OUT*** \nRaise a glass for a great cause—tickets won’t last long.
URL:https://sunburstprojects.org/event/3rd-annual-lovin-bubbles-a-blind-champagne-tasting-2026/
CATEGORIES:Event,Featured Event
END:VEVENT
BEGIN:VEVENT
DTSTART;TZID=UTC:20260509T090000
DTEND;TZID=UTC:20260509T140000
DTSTAMP:20260423T225841
CREATED:20250604T234926Z
LAST-MODIFIED:20260205T214942Z
UID:3580-1778317200-1778335200@sunburstprojects.org
SUMMARY:Drag Your Balls Golf Tournament 2026
DESCRIPTION:Save the date and join us for Sunburst Projects’ Drag Your Balls Golf Tournament on Saturday\, May 9\, 2026 at Haggin Oaks Golf Complex in Sacramento! \nWe have lots of surprises planned for both seasoned golfers and newbies alike! Drag Queens will be speeding around the golf course entertaining you and offering to wash your balls as you play 9 holes! \nTickets include:\n• 9:00am shotgun start\, golf cart and green fees.\n• Hilarious Drag Brunch Party with buffet brunch\, no-host bar\, drag show\, prizes\, and a silent auction!\n• Or\, just purchase a ticket to the Drag Brunch Party only. Either way\, you’re sure to have a blast! \nPrizes will be awarded for closest to the pin\, longest drive\, and top 3 teams. \nFor those who do not golf\, tickets to the Drag Brunch Party\, which includes brunch\, the awards ceremony\, silent auction and drag show are on sale now. Drag Brunch starts at 12:00 noon in the Creekside Lounge/Arcade Tent at the golf course. \nFor questions on sponsorships available\, contact: Paul Curtis at (916) 201-4600 or paul@sunburstprojects.org \nLast Years Sponsors:\nGilead | Sansone and Nielsen | Tri Counties Bank | Absolut Vodka | Skrewball Whiskey | Pucci’s Pharmacy | RX Healthcare | UC Davis Health | State Farm – Ryan Maguire\, Agent | Supervisor Rich Desmond | Supervisor Kennedy | Topia Concepts Inc. | VITAE Architecture Planning Interiors\, Inc. | Michael Triglia Realtor | Chapman Consulting \nSunburst Projects is a 501(c)(3) non-profit serving people living with HIV/AIDS. \nTickets will be on sale soon\, so check back here periodically!
URL:https://sunburstprojects.org/event/drag-your-balls-golf-tournament-2026/
LOCATION:Haggin Oaks Golf Complex\, 3645 Fulton Ave\, Sacramento\, CA\, 95821
CATEGORIES:Event,Featured Event
END:VEVENT
END:VCALENDAR