BEGIN:VCALENDAR
VERSION:2.0
PRODID:-//Sunburst Projects - ECPv6.15.16.1//NONSGML v1.0//EN
CALSCALE:GREGORIAN
METHOD:PUBLISH
X-ORIGINAL-URL:https://sunburstprojects.org
X-WR-CALDESC:Events for Sunburst Projects
REFRESH-INTERVAL;VALUE=DURATION:PT1H
X-Robots-Tag:noindex
X-PUBLISHED-TTL:PT1H
BEGIN:VTIMEZONE
TZID:UTC
BEGIN:STANDARD
TZOFFSETFROM:+0000
TZOFFSETTO:+0000
TZNAME:UTC
DTSTART:20180101T000000
END:STANDARD
END:VTIMEZONE
BEGIN:VEVENT
DTSTART;TZID=UTC:20240418T080000
DTEND;TZID=UTC:20240502T170000
DTSTAMP:20260423T212102
CREATED:20240426T225351Z
LAST-MODIFIED:20240426T225453Z
UID:3300-1713427200-1714669200@sunburstprojects.org
SUMMARY:Big Day of Giving 2024
DESCRIPTION:  \nJoin the Sacramento Region on May 2\, 2024 for the Big Day of Giving. Choose Sunburst Projects as your choice to support by making your donation today! Donations are accepted starting on April 18th through May 2nd. Visit our Big Day of Giving page to donate. \nDonations received on Big Day of Giving will go to support our annual Camp Sunburst Project which sends youth infected and affected with HIV to a free summer camp where they will leave all the worries of their HIV status at home and just be a kid. Our camp is a partnership with Healing Waters\, a non-profit that helps those living with HIV experience the majestic white-water rapids of the American River. Campers will spend multiple days exploring the American River near Lotus\, CA by raft. They will sleep in tents under the big sky and even roast marshmallows over an open campfire. Many of our campers come from inner-city homes and have never had this type of experience before. Camp Sunburst\, founded in 1988 has been life-changing for the youth attending every year since. \nDonate today!
URL:https://sunburstprojects.org/event/big-day-of-giving-2024/
LOCATION:CA
CATEGORIES:Event,Featured Event
END:VEVENT
BEGIN:VEVENT
DTSTART;TZID=UTC:20240209T180000
DTEND;TZID=UTC:20240209T200000
DTSTAMP:20260423T212102
CREATED:20240129T005435Z
LAST-MODIFIED:20240131T180146Z
UID:3258-1707501600-1707508800@sunburstprojects.org
SUMMARY:Lovin’ Bubbles\, a Blind Champagne Tasting
DESCRIPTION:  \nJust in time for Valentine’s Day\, join us for an evening of sensory exploration at Lovin’ Bubbles\, a fundraiser where 3 French champagnes go head-to-head with 3 local California sparkling wines in a blind tasting to find the best. You be the judge as you make your way through the 6 different selections and the paired appetizers that complement each bubbly. Appetizers will be savory and sweet.  \nDon’t miss this chance to elevate your wine knowledge in a fun and social setting at a private home in West Sacramento\, all while supporting a great cause. Address for the event will be sent once you purchase your tickets. All tickets must be purchased prior to Wednesday\, February 7\, 2024 at Midnight. \nPURCHASE TICKETS & SPONSOR PACKAGES HERE:\nhttps://secure.givelively.org/event/sunburst-projects/lovin-bubbles \n$50 per ticket\n$90 for two \nFriday\, February 9\, 2024\nPrivate Residence in West Sacramento\, CA
URL:https://sunburstprojects.org/event/lovin-bubbles-a-blind-champagne-tasting/
LOCATION:Private Residence
CATEGORIES:Event,Featured Event
END:VEVENT
BEGIN:VEVENT
DTSTART;VALUE=DATE:20230513
DTEND;VALUE=DATE:20230514
DTSTAMP:20260423T212102
CREATED:20220817T232456Z
LAST-MODIFIED:20230203T182550Z
UID:3198-1683936000-1684022399@sunburstprojects.org
SUMMARY:Drag Your Balls Golf Tourney 2023
DESCRIPTION:GOLF TICKETS NOW AVAILABLE → \nJoin us for Sunburst Project’s Celebrity Golf Tournament on Saturday\, May 13\, 2023 at Haggin Oaks Golf Complex in Sacramento! \nSPONSORSHIP PACKAGES → \nAdditional Event Information: \nGolf Check-in: 11:00 Golfing start: 12:00 noon \nWe have lots of surprises planned for both seasoned golfers and newbies alike! \nDrag Queens will be speeding around the golf course entertaining you and offering to wash your balls as you play 9 holes! \nTickets include: \n12:00 noon shotgun start\, golf cart\, green fees\, and boxed lunch to enjoy on the course\, hilarious afterparty with appetizers\, no-host bar\, drag show\, prizes\, and a silent auction! \nOr\, purchase a ticket to the afterparty only. Either way\, you’re sure to have a blast! \nPrizes will be awarded for closest to the pin\, longest drive\, and top 3 teams. \nFor those who do not golf\, tickets to the Afterparty\, which includes the awards ceremony\, silent auction and celebrity drag show. \nFor questions on sponsorships available\, contact: Paul Curtis at (916) 201-4600 or paul@sunburstprojects.org\nFor questions or to donate to the silent auction\, please email admin@sunburstprojects.org \nSunburst Projects is a 501(c)(3) non-profit serving people living with HIV/AIDS
URL:https://sunburstprojects.org/event/drag-your-balls-golf-tourney-2022/
LOCATION:Haggin Oaks\, 3645 Fulton Ave\, Sacramento\, CA\, 95821
CATEGORIES:Featured Event
END:VEVENT
BEGIN:VEVENT
DTSTART;VALUE=DATE:20211016
DTEND;VALUE=DATE:20211017
DTSTAMP:20260423T212102
CREATED:20210726T163653Z
LAST-MODIFIED:20210824T221849Z
UID:3030-1634342400-1634428799@sunburstprojects.org
SUMMARY:Drag Your Balls Golf Tournament
DESCRIPTION:GOLF TICKETS NOW AVAILABLE →\nJoin us for Sunburst Project’s Celebrity Golf Tournament on Saturday\, October 16\, 2021 at Haggin Oaks Golf Complex in Sacramento! \nSPONSORSHIP PACKAGES →\nIndividual Golf and Afterparty tickets will go on sale for this Sellout event on August 1\, 2021. Please check back at that date to purchase tickets. \nAdditional Event Information: \nGolf Check-in: 11:00 Golfing start: 12:00 noon \nWe have lots of surprises planned for both seasoned golfers and newbies alike! Drag celebrities will be speeding around the golf course entertaining you and offering to wash your balls as you play 9 holes! \nTickets include: \n12:00 noon shotgun start\, golf cart\, green fees\, and boxed lunch to enjoy on the course\nHilarious afterparty with appetizers\, no-host bar\, drag show\, prizes\, and a silent auction!\nOr\, purchase a ticket to the afterparty only. Either way\, you’re sure to have a blast!\nPrizes will be awarded for closest to the pin\, longest drive\, and top 3 teams. \nFor those who do not golf\, tickets to the Afterparty\, which includes the awards ceremoney\, silent auction and celebrity drag show will be available for purchase starting on August 1\, 2021. Please check back at that time. \nFor questions on sponsorships available\, contact: Diana Pretzlaff at (916) 899-9173 or diana@sunburstprojects.org \nSunburst Projects is a 501(c)(3) non-profit serving people living with HIV/AIDS
URL:https://sunburstprojects.org/event/drag-your-balls-golf-tournament/
LOCATION:Haggin Oaks\, 3645 Fulton Ave\, Sacramento\, CA\, 95821
CATEGORIES:Featured Event
ATTACH;FMTTYPE=image/png:https://sunburstprojects.org/wp-content/uploads/2021/07/2021-Golf-Tournament-Facebook-Cover.png
END:VEVENT
BEGIN:VEVENT
DTSTART;TZID=UTC:20191212T180000
DTEND;TZID=UTC:20191212T210000
DTSTAMP:20260423T212102
CREATED:20191022T011243Z
LAST-MODIFIED:20191114T045920Z
UID:2393-1576173600-1576184400@sunburstprojects.org
SUMMARY:Vicki Barbolak Comedy Show
DESCRIPTION:Vicki Barbolak – Trailer Nasty\nPlus Special Guest Comedians:\nSuzette Veneti and Melissa McGillicuddy\nThursday\, December 12th 2019\n24th Street Theatre\n2791 24th Street – Sacramento \nTicket Prices:\nVIP: $55 – Includes Wine\, Beer\, Appetizers\, Signed Photo and Premium Seating\nPREMIUM SEATING: $35\nGENERAL ADMISSION: $25 \n \nVicki Barbolak is one of of America’s funniest and most authentic comedians. She was a fan favorite and top 10 Finalist on Season 13 of America’s Got Talent in 2018.  Vicki was also featured on the 2019 AGT Champions Show!  Howie Mandel told Vicki and America\, “I think you just came up with your own sitcom\, you’re wonderful I love you.”  And Simon said\, “I think you’re the best comedian we’ve had on this show.” \nVicki’s “Trailer Nasty” comedy tour is selling out across the country\, including her Trailer Park Tuesdays each week at Jimmy Kimmel’s Comedy Club in Las Vegas. Barbolak’s comedy reflects life as a Mom\, her many marriages\, and her love of the Southern California trailer park lifestyle.   \nVicki is bringing her “Trailer Nasty” show to the 24th Street Theatre in Sacramento on Thursday\, 12/12/19.  Opening acts include local comedians Suzette Veneti and Melissa McGillicuddy.  Hosted by Drag Queens Precious Cargo and Betty Booger\, this promises to be a sold-out show so get your tickets NOW!! \nCome early to have a drink and visit with friends.  Doors open at 6:00 pm\, show starts at 7:00 p.m.  Wine\, beer\, and holiday gifts will be available for purchase\, along with a live auction hosted by Vicki herself!  All proceeds will benefit Sunburst Projects\, a 501(c)(3) organization providing essential services to youth and families living with HIV/AIDS in the greater Sacramento area. \nPrintable Flyer – PDF
URL:https://sunburstprojects.org/event/vicki-barbolak-comedy-show/
LOCATION:24th Street Theatre\, 2791 24th Street\, Sacramento\, CA
CATEGORIES:Event,Featured Event
ATTACH;FMTTYPE=image/png:https://sunburstprojects.org/wp-content/uploads/2019/11/Facebook.png
END:VEVENT
BEGIN:VEVENT
DTSTART;TZID=UTC:20191206T200000
DTEND;TZID=UTC:20191210T200000
DTSTAMP:20260423T212102
CREATED:20191105T230110Z
LAST-MODIFIED:20191114T165557Z
UID:2402-1575662400-1576008000@sunburstprojects.org
SUMMARY:Holiday Hits with A Splash of Sass!
DESCRIPTION:The Sacramento Gay Men’s Chorusis proud to announce a partnership with Sunburst Projects at the KSGMC 201.9FM: Holiday Hits with A Splash of Sass! holiday concert. The mission of Sunburst Projects is to keep families together by providing services that strengthen and empower individuals\, families\, and communities to ensure youth living with HIV/AIDS reach their\nhighest potential. Sunburst Projects addresses health care disparities\, fights AIDS stigma\, and advocates for comprehensive HIV/AIDS services that address the social-psychological needs of youth and families.  \nJames Dahlen\, President of the Sacramento Gay Men’s Chorus\, explains\, “As with many like-organizations at the time\, the Sacramento Gay Men’s Chorus was founded during the AIDS Crisis as a way to provide community and support to those affected by AIDS and those around them. SGMC continues to advocate for\npositive change and social justice on a variety of issues in the LGBTQ+ community. We completely understand that we have made strides in both social justice for LGBTQ+ individuals and those affected by AIDS and HIV\, but there is more work to do. The mission of Sunburst Projects aligns perfectly with SGMC’s continued mission which is to raise awareness for causes we care about through entertainment and outreach.” \n“Sunburst Projects is thrilled to partner with the Sacramento Gay Men’s Chorus for their Holiday Hits Show. Both of our organizations began in the early 1980s and for over 35 years we have shared important core values of fighting stigma and supporting and enriching the lives of families and individuals in our\ncommunity\,” said Diana Pretzlaff\, Sunburst Projects Director of Development. \nThrough this partnership\, the Sacramento Gay Men’s Chorus will provide support to Sunburst Projects with cross-promotion in social media\, an information table and from-the-stage presentations by a Sunburst Projects board member at each show\, plus a donation to help support Sunburst Projects programs. \nAbout the Sacramento Gay Men’s Chorus Holiday Show.\nKSGMC 201.9FM: Holiday Hits with A Splash of Sass! is family-friendly show\, featuring traditional seasonal favorites\, showstoppers from prior years\, and a few new surprises to make the season even brighter. Show dates are December 6\, 7\, and 10\, 2019 at 8:00pm and December 8\, 2019 at 3:00pm. The venue for all shows is\nthe First United Methodist Church at 2100 J Street\, Sacramento\, CA. General admission: $25\, students: $15. VIP\n(includes reception and premium concert seats): $40. Purchase tickets at SacGayMensChorus.org. \nAbout the Sacramento Gay Men’s Chorus (SGMC)\nThe Sacramento Gay Men’s Chorus is celebrating 35 years! In 1984\, the SGMC began as a singing group aiming\nto foster a sense of community and provide support for gay men in the Sacramento area. Since then\, the chorus\nhas grown into an integral part of the Sacramento music community\, as well as a voice for the wide scope of\nLGBTQ+ folk in the greater Sacramento area. Our mission: Fostering pride and enhancing lives\, one song at a\ntime. Our vision: To build a community where no one will be afraid to sing one’s own song. SGMC is a 501(c)(3)\nNonprofit: Federal Tax ID #68-0234567. SacGayMensChorus.org
URL:https://sunburstprojects.org/event/holiday-hits-with-a-splash-of-sass/
LOCATION:First United Methodist Church\, 2100 J Street\, Sacramento\, CA\, United States
CATEGORIES:Event,Featured Event
ATTACH;FMTTYPE=image/jpeg:https://sunburstprojects.org/wp-content/uploads/2019/11/SGMCPromo-e1573591059307.jpg
END:VEVENT
BEGIN:VEVENT
DTSTART;TZID=UTC:20191025T170000
DTEND;TZID=UTC:20191025T200000
DTSTAMP:20260423T212102
CREATED:20190920T205107Z
LAST-MODIFIED:20190920T205604Z
UID:2352-1572022800-1572033600@sunburstprojects.org
SUMMARY:Halloween Family Party
DESCRIPTION:Put on your favorite Costume and join us for Fun Food and Games! \nThis is a FREE event! \nRSVP BY OCTOBER 18th – 916-440-0889 Ext. 301
URL:https://sunburstprojects.org/event/halloween-family-party/
LOCATION:Sunburst Projects\, 2143 Hurley Way\, Suite 240\, Sacramento\, CA\, 95825
CATEGORIES:Event,Featured Event
ATTACH;FMTTYPE=image/jpeg:https://sunburstprojects.org/wp-content/uploads/2019/09/Halloween-Party-2019.jpg
END:VEVENT
BEGIN:VEVENT
DTSTART;TZID=UTC:20191019T190000
DTEND;TZID=UTC:20191019T190000
DTSTAMP:20260423T212102
CREATED:20190911T000704Z
LAST-MODIFIED:20190911T154740Z
UID:2232-1571511600-1571511600@sunburstprojects.org
SUMMARY:Sacramento Women's Chorus
DESCRIPTION:FALL CONCERT – “AT THE DROP OF A HAT”\nFor some old time radio-like entertainment\, join SWC for their Fall Concert. \n​Early Bird Special: Save 10% if you buy before Sept 15.​
URL:https://sunburstprojects.org/event/fall-concert-sacramento-womens-chorus/
LOCATION:CK McKlatchy High School\, 3066 Freeport Blvd\, Sacramento\, CA\, 85818
CATEGORIES:Event,Featured Event
ATTACH;FMTTYPE=image/jpeg:https://sunburstprojects.org/wp-content/uploads/2019/09/FB-event-pix-Drop-e1568159990457.jpg
END:VEVENT
BEGIN:VEVENT
DTSTART;VALUE=DATE:20191010
DTEND;VALUE=DATE:20191011
DTSTAMP:20260423T212102
CREATED:20190909T012700Z
LAST-MODIFIED:20190924T191812Z
UID:2055-1570665600-1570751999@sunburstprojects.org
SUMMARY:Dining Out For Life
DESCRIPTION:Sunburst Projects is very excited to host Dining Out For Life Sacramento for the 5th year! \nFor 37 years\, Sunburst Projects has been providing services that strengthen and empower individuals\, families\, and communities to ensure youth living with HIV/AIDS reach their highest potential. Headquartered in Sacramento\, California\, Sunburst Projects is proud to join Dining Out for Life\, making 2018 the fifth consecutive year! \nOn October 10th 2019\, several Sacramento restaurants will donate up to 50% of their proceeds to Sunburst Projects. On this exciting day\, diners will dine out to support HIV/AIDS awareness throughout the Sacramento community! \nParticipating Restaurants and Bars:\nScott’s Seafood\nAdamos\nHouse Kitchen and Bar\nMangos\nBadlands\nKupros\nKick’n Mule \nSponsors:\nMaita Subaru\nPharmBlue\nOutword Magazine\nPucci’s Pharmacy \nSign up your restaurant! \nDining Out For Life – Website\nDining Out For Life – Facebook
URL:https://sunburstprojects.org/event/dining-out-for-life/
LOCATION:Sacramento\, Sacramento\, CA
CATEGORIES:Event,Featured Event
ATTACH;FMTTYPE=image/jpeg:https://sunburstprojects.org/wp-content/uploads/2019/09/DiningOutForLife.jpeg
END:VEVENT
END:VCALENDAR